BEGIN:VCALENDAR
VERSION:2.0
PRODID:-//MyYogaOnDemand - ECPv6.15.20//NONSGML v1.0//EN
CALSCALE:GREGORIAN
METHOD:PUBLISH
X-WR-CALNAME:MyYogaOnDemand
X-ORIGINAL-URL:https://myyogaondemand.com
X-WR-CALDESC:Events for MyYogaOnDemand
REFRESH-INTERVAL;VALUE=DURATION:PT1H
X-Robots-Tag:noindex
X-PUBLISHED-TTL:PT1H
BEGIN:VTIMEZONE
TZID:America/New_York
BEGIN:DAYLIGHT
TZOFFSETFROM:-0500
TZOFFSETTO:-0400
TZNAME:EDT
DTSTART:20150308T070000
END:DAYLIGHT
BEGIN:STANDARD
TZOFFSETFROM:-0400
TZOFFSETTO:-0500
TZNAME:EST
DTSTART:20151101T060000
END:STANDARD
BEGIN:DAYLIGHT
TZOFFSETFROM:-0500
TZOFFSETTO:-0400
TZNAME:EDT
DTSTART:20160313T070000
END:DAYLIGHT
BEGIN:STANDARD
TZOFFSETFROM:-0400
TZOFFSETTO:-0500
TZNAME:EST
DTSTART:20161106T060000
END:STANDARD
BEGIN:DAYLIGHT
TZOFFSETFROM:-0500
TZOFFSETTO:-0400
TZNAME:EDT
DTSTART:20170312T070000
END:DAYLIGHT
BEGIN:STANDARD
TZOFFSETFROM:-0400
TZOFFSETTO:-0500
TZNAME:EST
DTSTART:20171105T060000
END:STANDARD
END:VTIMEZONE
BEGIN:VTIMEZONE
TZID:Asia/Kolkata
BEGIN:STANDARD
TZOFFSETFROM:+0530
TZOFFSETTO:+0530
TZNAME:IST
DTSTART:20150101T000000
END:STANDARD
END:VTIMEZONE
BEGIN:VEVENT
DTSTART;TZID=America/New_York:20160919T160000
DTEND;TZID=America/New_York:20161014T160000
DTSTAMP:20260421T090343
CREATED:20160712T111218Z
LAST-MODIFIED:20160712T143500Z
UID:3117-1474300800-1476460800@myyogaondemand.com
SUMMARY:200 Hour Yoga Teacher Training Course
DESCRIPTION:Upaya Yoga strives to bring the perfect balance of physical\, mental and spiritual contentment in its classes. We endeavour to deliver unsurpassed knowledge to all our aspiring yogis and teachers. At Upaya\, you will get to work with expert yogic gurus and learn techniques and skills to help you bloom into the teacher you aspire to be and for this we conduct our classes in an idyllic and tranquil environment. Our Teacher Training Course is certified by Yoga Alliance USA. The program involves an immense detail in the curriculum\, where you can absorb precise alignments and variations with the help of assistants present to guide you instantly.
URL:https://myyogaondemand.com/event/200-hour-yoga-teacher-training-course/
CATEGORIES:Ayurvedic Retreat,Retreat,Workshop,Yoga,Yoga Teacher Training,Yoga Travel
ATTACH;FMTTYPE=image/jpeg:https://myyogaondemand.com/wp-content/uploads/2016/07/DSC_0418.jpg
END:VEVENT
BEGIN:VEVENT
DTSTART;TZID=America/New_York:20160909T183000
DTEND;TZID=America/New_York:20160911T090000
DTSTAMP:20260421T090343
CREATED:20160702T135924Z
LAST-MODIFIED:20160702T140206Z
UID:3039-1473445800-1473584400@myyogaondemand.com
SUMMARY:TEACHER TRAINING  |  300 HOUR | AYURVEDA IMMERSION
DESCRIPTION:The ancient science of Ayurveda provides us with a map of the territory of being human. Learn how to practice self-care for health and abundance\, while individualizing your teaching to holistically care for students. Take your practice off the mat with balancing and cleansing techniques\, and become a more integrative teacher. \nThroughout this 25 hour Ayurveda Immersion we will explore:\n– Daily cleansing routines for wellness\n– Using Ayurveda is a diagnostic tool\n– Addressing imbalances with asana and yogic techniques\n– Refining your teaching for the seasons\n– Addressing insomnia\, anxiety\, depression\, and emotional balance with Ayurveda\n– Eating for balance and holistic health\n– Care for the Caregiver\n– And more \n*This course is also open to students with a steady practice who wish to learn more about Ayurveda.
URL:https://myyogaondemand.com/event/teacher-training-300-hour-ayurveda-immersion-2/
LOCATION:NoHo: 666 Broadway @ Bond Street\, 3rd Floor
CATEGORIES:Ayurvedic Retreat,Yoga,Yoga Teacher Training
ATTACH;FMTTYPE=image/jpeg:https://myyogaondemand.com/wp-content/uploads/2016/07/995180_10151874432138996_1776586267_n.jpg
ORGANIZER;CN="Dana Slamp":MAILTO:slampster@gmail.com
END:VEVENT
BEGIN:VEVENT
DTSTART;TZID=America/New_York:20160909T183000
DTEND;TZID=America/New_York:20160910T090000
DTSTAMP:20260421T090343
CREATED:20160627T161616Z
LAST-MODIFIED:20160702T024811Z
UID:3012-1473445800-1473498000@myyogaondemand.com
SUMMARY:TEACHER TRAINING  |  300 HOUR | AYURVEDA IMMERSION
DESCRIPTION:The ancient science of Ayurveda provides us with a map of the territory of being human. Learn how to practice self-care for health and abundance\, while individualizing your teaching to holistically care for students. Take your practice off the mat with balancing and cleansing techniques\, and become a more integrative teacher. \nThroughout this 25 hour Ayurveda Immersion we will explore:\n– Daily cleansing routines for wellness\n– Using Ayurveda is a diagnostic tool\n– Addressing imbalances with asana and yogic techniques\n– Refining your teaching for the seasons\n– Addressing insomnia\, anxiety\, depression\, and emotional balance with Ayurveda\n– Eating for balance and holistic health\n– Care for the Caregiver\n– And more \n*This course is also open to students with a steady practice who wish to learn more about Ayurveda.
URL:https://myyogaondemand.com/event/teacher-training-300-hour-ayurveda-immersion/
LOCATION:NoHo: 666 Broadway @ Bond Street\, 3rd Floor
CATEGORIES:Ayurvedic Retreat,Yoga Teacher Training
ATTACH;FMTTYPE=image/jpeg:https://myyogaondemand.com/wp-content/uploads/2016/06/11.jpg
ORGANIZER;CN="Dana Slamp":MAILTO:slampster@gmail.com
END:VEVENT
BEGIN:VEVENT
DTSTART;TZID=America/New_York:20160903T090000
DTEND;TZID=America/New_York:20160905T183000
DTSTAMP:20260421T090343
CREATED:20160826T184656Z
LAST-MODIFIED:20160828T013449Z
UID:3281-1472893200-1473100200@myyogaondemand.com
SUMMARY:Yoga Nidra Teacher Training
DESCRIPTION:Join Sho Higuchi\, self proclaimed savasana connoisseur\, in this special exploration into Yoga Nidra\, a unique meditation done on the back in savasana that promotes deep relaxation and healing.This training will focus on the science and technique of Yoga Nidra meditation\, and provide you with the tools to guide yourself and others through this healing practice. It is great for teachers looking to learn new therapeutic techniques\, practitioners who would like to deepen their meditation practice\, those who would like to learn how to heal themselves and others\, or anyone who wants to sleep better at night and learn how to truly relax. The training will include an introduction to the Chakra system. \nYoga Nidra by Swami Satyananda Saraswati\n *to be read prior to the start of training
URL:https://myyogaondemand.com/event/yoga-nidra-teacher-training/
CATEGORIES:Yoga Teacher Training
ATTACH;FMTTYPE=image/jpeg:https://myyogaondemand.com/wp-content/uploads/2016/08/Sho-Higuchi-Teaching-photo.jpg
ORGANIZER;CN="Sho":MAILTO:http://restorewithsho.com/contact/
END:VEVENT
BEGIN:VEVENT
DTSTART;VALUE=DATE:20160822
DTEND;VALUE=DATE:20160925
DTSTAMP:20260421T090343
CREATED:20160802T080210Z
LAST-MODIFIED:20160906T154621Z
UID:3187-1471824000-1474761599@myyogaondemand.com
SUMMARY:300-hr yoga teacher training
DESCRIPTION:Vishwa Shanti Yoga School conducts 300-hr yoga teacher training for yoga practitioners who have already completed 200-hr YTT from a school registered with Yoga Alliance USA. Participants can be intermediate to advanced level in their practice. \nCourse dates \n\n22 Aug to 24 Sep 2016 :: USD 1900\n10 Apr to 13 May 2017 :: USD 1900\n12 Jun to 15 Jul 2017 :: USD 1900\n23 Jan to 25 Feb 2017 :: USD 1900
URL:https://myyogaondemand.com/event/300-hr-yoga-teacher-training/
CATEGORIES:Yoga Teacher Training
ATTACH;FMTTYPE=image/jpeg:https://myyogaondemand.com/wp-content/uploads/2016/08/yoga-teacher-training-in-rishikesh-1.jpg
END:VEVENT
BEGIN:VEVENT
DTSTART;VALUE=DATE:20160802
DTEND;VALUE=DATE:20160803
DTSTAMP:20260421T090343
CREATED:20160802T075046Z
LAST-MODIFIED:20160802T075046Z
UID:3184-1470096000-1470182399@myyogaondemand.com
SUMMARY:200-hr yoga teacher training in Rishikesh
DESCRIPTION:Vishwa Shanti Yoga school conducts 200-hr yoga teacher training to people around the world who are genuinely interested to gain international yoga certification and be able to teach yoga to others. This course is designed for beginners to intermediate level yoga practitioners. \nCourse dates \n\n25 Sep 2016 to 23 Oct 2016 :: USD 1400\n28 Nov 2016 to 24 Dec 2016 :: USD 1400\n02 Dec 2016 to 28 Jan 2017 :: USD 1500\n30 Jan 2017 to 25 Feb 2017 :: USD 1500\n13 Mar 2017 to 08 Apr 2017 :: USD 1500\n15 May 2017 to 10 Jun 2017 :: USD 1500\n13 Mar 2017 to 08 Apr 2017 :: USD 1500\n15 May 2017 to 10 Jun 2017 :: USD 1500\n\n 
URL:https://myyogaondemand.com/event/200-hr-yoga-teacher-training-in-rishikesh/
CATEGORIES:Yoga Teacher Training
ATTACH;FMTTYPE=image/jpeg:https://myyogaondemand.com/wp-content/uploads/2016/08/200-hr-YTT.jpg
END:VEVENT
BEGIN:VEVENT
DTSTART;TZID=America/New_York:20160610T080000
DTEND;TZID=America/New_York:20160612T170000
DTSTAMP:20260421T090343
CREATED:20160330T023441Z
LAST-MODIFIED:20160330T024425Z
UID:2753-1465545600-1465750800@myyogaondemand.com
SUMMARY:Sound Yoga Therapy Training with Jessica Caplan and Dana Slamp
DESCRIPTION:Immerse yourself in the transformative healing of sound with Jessica and Dana. Learn how sound creates the world\, and how to use mantra\, music\, vibration and rhythm for healing effect. Review the science of sound therapy\, and how music can improve mental processing. Learn to chant\, play harmonium\, tuning forks and Tibetan bowls\, and deepen strength of and connection to the voice. Apply classic Vedic\, Hindu\, and Tibetan mantras to group and one-on-one yoga sessions for a comprehensive list of ailments. Musical instruments are welcome – not required. All curious yogis\, teachers\, and wellness professionals are welcome to join! \n$375 for Pure Members/$400 for non members
URL:https://myyogaondemand.com/event/sound-yoga-therapy-training-with-jessica-caplan-and-dana-slamp/
LOCATION:Pure East\, 203 E. 86th St  at 3rd Ave\, New York City\, 10028\, United States
CATEGORIES:Workshop,Yoga Teacher Training
ATTACH;FMTTYPE=image/jpeg:https://myyogaondemand.com/wp-content/uploads/2015/10/Jessica-Caplan-and-Dana-Slamp.jpg
ORGANIZER;CN="Dana Slamp":MAILTO:slampster@gmail.com
END:VEVENT
BEGIN:VEVENT
DTSTART;TZID=America/New_York:20160301T080000
DTEND;TZID=America/New_York:20160414T170000
DTSTAMP:20260421T090343
CREATED:20160130T194212Z
LAST-MODIFIED:20160130T194212Z
UID:2628-1456819200-1460653200@myyogaondemand.com
SUMMARY:500 hour Yoga Teacher Training at Kailash Tribal School of Yoga & Holistic Healing
DESCRIPTION:Yoga Alliance certified RYS 500 hour Yoga teacher training details\nThe 500 hour Teacher Training at Kailash Tribal School\, is an advance training course for 10 intensive weeks. It is a combination of our 200 hour and the 300 hour courses together. You will graduate from the 500 hours AYTTC program as a highly specialised yoga teacher uniquely qualified to work with the students you feel drawn to serve. Furthermore\, you will be equipped to offer Ayurvedic Yoga Therapy as well as meditation therapy. \nWe specialize in classes of smaller groups\, with a maximum of 12 students per course in order to give the students more personal attention. \nThis course is for existing 200 hour yoga teachers who wish to gain their 500 hour Yoga Alliance qualification. The course is solely led by Yogi Sivadas. \nDuration : 6 weeks \nPrerequisite : All students applying for RYT 300 level course must provide their 200 hour certificate of a RYS 200 school registered with Yoga Alliance. Applicants should have practiced yoga consistently for at least 2 years prior to the course and should be able to demonstrate a general level of health and fitness. \nTopics covered: \n\nAdvanced detailed study of Patanjali Sutras\nHistory\, philosophy\, ethics and lifestyle of yoga\nAnatomy and physiology in yoga\nAyurvedic Yoga Therapy\nSanskrit and chanting\nTeaching methodology\nAdvanced asanas\nMudras\, bandhas and kriyas\nTherapeutic aspects of yoga\nMeditations\n\nNon Contact hours : Students familiarise themselves with theoretical aspects of yoga\, prepare assignments/ presentations and practice independently. \nDaily Schedule : 7 contact hours per day \nTuesday is a day of rest with no contact hours –  time for self study and open book assignments \n\n05.30 to 06:30 – Wake up and shower\n07:00 to 08:00 – Chanting & Pranayama\n08:00 to 10:00 – Morning Asana Class Tribal Ashtanga Vinyasa Yoga\n10:00 to 11:00 – Breakfast\n11:00 to 13:00 – Main Lecture (Yoga Principles / Philosophy / Yoga Sutra / History / Pathanjali Sutras/ basic Sanskrit/ Ayurvedic Yoga Therapy/Theory on Teaching )\n13:00 to 14:00 – Lunch\n14:00 to 16:00 – Karma Yoga\n16:00 to 18:00 – Evening Asana Practice Tribal Hatha Yoga\n18:00 to 20:00 – Free time for shower and light dinner\n20:00 to 22:00 – Organization of daily notes\, reading and working on weekly assignments\n22:00 to 05.30 – Sleep and sweet dreams\n\nYoga Mat\, Yoga Mat cover\, carry bag for study materials (books/study manuals). Two sets of uniforms and all study materials are provided. All this is included in the course fee. Books and reading material will continue to provide you with in-depth knowledge and information once you return home. Many students mail their books home – this is an affordable option to keep your luggage light. \nAccommodation during the Yoga teacher training course\nYou are responsible for the health and well-being of your body and mind. The school has a limited number of guest rooms available to the students. They are bright and very clean with balconies facing the valley and mountains. Rooms are equipped with a small kitchen\, propane cook top\, cooking utensils\, two sets of bed linens\, a duvet\, bath and hand towels.  Each room has a private bathroom with shower and hot water. The school is located 100 meters from the main square. The town has many facilities available including: next day laundry\, fresh fruits and vegetables\, multi-cuisine restaurants\, internet\, etc.
URL:https://myyogaondemand.com/event/500-hour-yoga-teacher-training-at-kailash-tribal-school-of-yoga-holistic-healing/
LOCATION:Kailash Tribal School\, Mcleodganj at Dharamsala\, Dharamsala\, Himachal Pradesh\, India
CATEGORIES:Yoga Teacher Training
END:VEVENT
BEGIN:VEVENT
DTSTART;TZID=America/New_York:20160301T080000
DTEND;TZID=America/New_York:20160414T170000
DTSTAMP:20260421T090343
CREATED:20160110T212944Z
LAST-MODIFIED:20160110T212944Z
UID:2627-1456819200-1460653200@myyogaondemand.com
SUMMARY:300 hour Yoga Teacher Training at Kailash Tribal School of Yoga & Holistic Healing
DESCRIPTION:Yoga Alliance certified RYS 300 hour Yoga teacher training details\nThe 300 hour Teacher Training course in India\, is a comprehensive Yoga instructor training\, designed for students who have completed their 200 hour teacher training with a Yoga Alliance School. Our 300 hour program is in accordance with the 500 hour requirements for registration with Yoga Alliance. At the end of the course you will be a Certified Yoga Instructor\, eligible to register with Yoga Alliance at RYT 500 level. \nDuration : 6 weeks \nPrerequisite : All students applying for RYT 300 level course must provide their 200 hour certificate of a RYS 200 school registered with Yoga Alliance. Applicants should have practiced yoga consistently for at least 2 years prior to the course and should be able to demonstrate a general level of health and fitness. \nTopics covered: \n\nAdvanced detailed study of Patanjali Sutras\nHistory\, philosophy\, ethics and lifestyle of yoga\nAnatomy and physiology in yoga\nAyurvedic Yoga Therapy\nSanskrit and chanting\nTeaching methodology\nAdvanced asanas\nMudras\, bandhas and kriyas\nTherapeutic aspects of yoga\nMeditations\n\nNon Contact hours : Students familiarise themselves with theoretical aspects of yoga\, prepare assignments/ presentations and practice independently.
URL:https://myyogaondemand.com/event/300-hour-yoga-teacher-training-at-kailash-tribal-school-of-yoga-holistic-healing/
LOCATION:Kailash Tribal School\, Mcleodganj at Dharamsala\, Dharamsala\, Himachal Pradesh\, India
CATEGORIES:Yoga Teacher Training
ATTACH;FMTTYPE=image/jpeg:https://myyogaondemand.com/wp-content/uploads/2016/01/Yogi-Sivadas.jpg
END:VEVENT
BEGIN:VEVENT
DTSTART;TZID=America/New_York:20160301T080000
DTEND;TZID=America/New_York:20160328T170000
DTSTAMP:20260421T090343
CREATED:20160105T014631Z
LAST-MODIFIED:20160105T051613Z
UID:2623-1456819200-1459184400@myyogaondemand.com
SUMMARY:200 hour Yoga Teacher Training at Kailash Tribal School of Yoga & Holistic Healing
DESCRIPTION:Yoga Alliance certified RYS 200 hour Yoga teacher training details\nThe Yoga Alliance 200 hour Yoga Teacher Training course is a comprehensive training program\, designed in accordance with the 200 hour requirements for registration with Yoga Alliance. At the end of the course you will be a certified Yoga Instructor\, eligible to register with Yoga Alliance. \nWe specialize in classes of smaller groups\, with a maximum of 12 students per course in order to give the students more personal attention. This four-week intensive Yoga Teacher Training is of exceptionally high quality\, comprehensive\, and transformative. The course content is solely taught by Yogi Sivadas \nDuration : 4 weeks \nPrerequisite :Applicants should have practiced yoga consistently for at least 2 year prior to the course and should be able to demonstrate a general level of health and fitness. \nTopics covered : \n\nPatanjali Sutra’s\nHistory\, philosophy\, ethics and lifestyle of yoga\nAnatomy and physiology in yoga\nAyurveda\nChanting\nTeaching methodology\nMudras\, bandhas and kriyas\n\nNon-Contact hours : Students familiarize themselves with theoretical aspects of yoga\, prepare assignments/ presentations and practice independently. \nYoga Mat Yoga Mat cover\, carry bag for study materials (books/study manuals). Two sets of uniforms and all study materials are provided. All this is included in the course fee. Books and reading material will continue to provide you with in-depth knowledge and information once you return home. Many students mail their books home – this is an affordable option to keep your luggage light. \nDaily Schedule : 7 contact hours per day\nTuesday is a day of rest with no contact hours – time for self study and openbook assignments \n\n05.30 to 06:30 – Wake up and shower\n07:00 to 08:00 – Chanting & Pranayama\n08:00 to 10:00 – Morning Asana Class Tribal Ashtanga Vinyasa Yoga\n10:00 to 11:00 – Break fast\n11:00 to 13:00 – Karma Yoga\n13:00 to 14:00 – Lunch\n14:00 to 16:00 – Main Lecture (Yoga Principles / Philosophy / Yoga Sutra / History / Pathanjali Sutras/Theory on Teaching Training)\n16:00 to 18:00 – Evening Asana Practice Tribal Hatha Yoga\n18:00 to 20:00 – Free time for light dinner\n\nAccommodation during the Yoga teacher training course\nYou are responsible for the health and well-being of your body and mind. The school has a limited number of guest rooms available to the students. They are bright and very clean with balconies facing the valley and mountains. Rooms are equipped with a small kitchen\, propane cook top\, cooking utensils\, two sets of bed linens\, a duvet\, bath and hand towels.  Each room has a private bathroom with shower and hot water. The school is located 100 meters from the main square. The town has many facilities available including: next day laundry\, fresh fruits and vegetables\, multi-cuisine restaurants\, internet\, etc. \nCode of Conduct \nThe school operates under a strict Code of Conduct that is based primarily on the philosophy of Yoga\, Ayurveda and Reiki. Respect\, camaraderie\, tolerance and mutual understanding have to lie at the basis of all interactions between students and govern all interactions between students and teacher. Please take some time to familiarize yourself with the Code of Conduct. It will enhance the benefits you gain from any of the classes or courses you take. \nThe Teacher of Kailash Tribal School of Yoga will: \n1) Uphold the professional standards of his teaching profession throughout all his interactions with students by conducting himself in a professional manner. \n2) Create and maintain a safe\, comfortable and clean environment conducive to the practice of yoga. \n3) Respect the right to privacy and dignity of all students. \n4) Be conscious and aware of his limitations as a yoga teacher according to his scope of practice. \n5) Encourage diversity and be nonjudgmental towards students regardless of their age\, racial background\, gender or religious orientation. \n6) Avoid words or actions that constitute any form of sexual harassment. \n7) Adhere to the basic traditional principles of yoga as written in Yamas and Niyamas. \n9) Follow and adhere to the national laws of India that pertain to the Yoga and Holistic healing school and teaching activity. \n10) When appropriate he will refer a student to seek alternative instructions or advice. \nStudents are expected to: \n1) Be punctual for all classes and arranged meetings in relation to the yoga school. \n2) Students must engage themselves with self studying the given syllabus in free hours. \n3) Avoid the use of intoxicants while taking part in any of the courses. \n4) Purchase own health and other needed insurance. \n5) Be respectful\, polite\, honest and fair in their interactions with the teacher and fellow students. \n6) Follow the yogic lifestyle as outlined in the Yamas and Niyamas. \n7) Inform the teacher about any pre-existing or arising health conditions and issues. \n8) Be focused on the course\, its content and practices. \n9) Contemplate the teachings and engage in discussions with the teacher if any issues or questions arise. \n10) While studying any long-term courses with Kailash Tribal School any other courses from other institutions are not permitted.
URL:https://myyogaondemand.com/event/200-hour-yoga-teacher-training-at-kailash-tribal-school-of-yoga-holistic-healing/
LOCATION:Kailash Tribal School\, Mcleodganj at Dharamsala\, Dharamsala\, Himachal Pradesh\, India
CATEGORIES:Yoga Teacher Training
END:VEVENT
END:VCALENDAR